BEGIN:VCALENDAR
VERSION:2.0
PRODID:-//Country Hall - ECPv4.9.14//NONSGML v1.0//EN
CALSCALE:GREGORIAN
METHOD:PUBLISH
X-WR-CALNAME:Country Hall
X-ORIGINAL-URL:https://www.countryhall.be
X-WR-CALDESC:Events for Country Hall
BEGIN:VTIMEZONE
TZID:Europe/Brussels
BEGIN:DAYLIGHT
TZOFFSETFROM:+0100
TZOFFSETTO:+0200
TZNAME:CEST
DTSTART:20220327T010000
END:DAYLIGHT
BEGIN:STANDARD
TZOFFSETFROM:+0200
TZOFFSETTO:+0100
TZNAME:CET
DTSTART:20221030T010000
END:STANDARD
END:VTIMEZONE
BEGIN:VEVENT
DTSTART;VALUE=DATE:20220611
DTEND;VALUE=DATE:20220613
DTSTAMP:20260425T131447
CREATED:20220425T095427Z
LAST-MODIFIED:20220425T095427Z
UID:2155-1654905600-1655078399@www.countryhall.be
SUMMARY:Salon des métiers du Bien-Être 2022
DESCRIPTION:[vc_row padding_top_multiplier=””][vc_column][vc_column_text text_style=”subtitle”]11/06/2022 – 12/06/2022[/vc_column_text][vc_column_text]De niet te missen vakbeurs gewijd aan de herverbinding tussen mensen. \nEen evenement dat alle actoren en deskundigen op het gebied van holistische gezondheid samenbrengt.\nDeze beurs biedt de gelegenheid om professionals en beoefenaars van alternatieve geneeswijzen en persoonlijke ontwikkelingstherapieën\, maar ook actoren van gezonde voeding en overgang te ontmoeten en uit te wisselen.\nDiverse conferenties\, workshops en presentaties.\nVoorstellen voor opleiding\, bijscholing\, stages\, sollicitaties en tewerkstelling.[/vc_column_text][/vc_column][/vc_row][vc_row disable_element=”yes”][vc_column][vc_tta_tabs][vc_tta_section title=”Affiche” tab_id=”1587109002969-e5b61917-7e97″]     [/vc_tta_section][vc_tta_section title=”Vidéo” tab_id=”1570705881348-0f9b0a26-c153″][/vc_tta_section][/vc_tta_tabs][/vc_column][/vc_row] \n
URL:https://www.countryhall.be/nl/event/salon-des-metiers-du-bien-etre-2022-2/
LOCATION:Country Hall\, Allée du Bol d'Air\, 19\, Angleur\, Liège\, 4031\, Belgique
CATEGORIES:Conventie
ATTACH;FMTTYPE=image/jpeg:https://www.countryhall.be/wp-content/uploads/2022/04/affiche-salon-bienêtre.jpg
END:VEVENT
END:VCALENDAR