BEGIN:VCALENDAR
VERSION:2.0
PRODID:-//Country Hall - ECPv4.9.14//NONSGML v1.0//EN
CALSCALE:GREGORIAN
METHOD:PUBLISH
X-WR-CALNAME:Country Hall
X-ORIGINAL-URL:https://www.countryhall.be
X-WR-CALDESC:Évènements pour Country Hall
BEGIN:VTIMEZONE
TZID:Europe/Brussels
BEGIN:DAYLIGHT
TZOFFSETFROM:+0100
TZOFFSETTO:+0200
TZNAME:CEST
DTSTART:20220327T010000
END:DAYLIGHT
BEGIN:STANDARD
TZOFFSETFROM:+0200
TZOFFSETTO:+0100
TZNAME:CET
DTSTART:20221030T010000
END:STANDARD
END:VTIMEZONE
BEGIN:VEVENT
DTSTART;TZID=Europe/Brussels:20220507T220000
DTEND;TZID=Europe/Brussels:20220508T040000
DTSTAMP:20260425T195530
CREATED:20211004T101054Z
LAST-MODIFIED:20211209T073944Z
UID:2005-1651960800-1651982400@www.countryhall.be
SUMMARY:Love Disco
DESCRIPTION:[vc_row padding_top_multiplier= » »][vc_column][vc_column_text text_style= »subtitle »]Reporté au 7 mai 2022[/vc_column_text][vc_column_text] \nL’ÉVÉNEMENT DISCO DE L’ANNÉE !\nLA LOVE DISCO\, UN ÉVÈNEMENT INCONTOURNABLE\, UN SHOW PAILLETÉ & PÉTILLANT\, UNE SOIRÉE INOUBLIABLE ! \nLe 7 mai 2022\, nous célébrons la Disco au Country-Hall de Liège ! Les amoureux de la danse & de la fête joyeuse se retrouveront\, se rassembleront pour vibrer sur des rythmes endiablés… De nombreux artistes & Dj’s se partageront la scène et rendrons cette soirée mémorable.[/vc_column_text][vc_column_text] \nRejoignez-nous en famille\, entre ami(e)s\, entre collègues & lâchez-vous !\nTransformez-vous en disco(wo)man car le 7 mai nous prônons L’AUDACE\, LA JOIE\, LE PLAISIR\, L’AMUSEMENT\, L’EXTRAVAGANCE & LA FUREUR… \nCet événement est organisé cette année sous la forme « Covid Safe Ticket ».\nEspaces VIP\, préventes\, concept\, covid safe ticket\,… Retrouvez toutes les informations pratiques en consultant le site lovedisco.be \nAge d’accès :\n25 ans minimum. \nDress Code :\nSoyez FOU ![/vc_column_text][/vc_column][/vc_row][vc_row disable_element= »yes » padding_top_multiplier= » »][vc_column]InformationEnventim[/vc_column][/vc_row][vc_row disable_element= »yes » padding_top_multiplier= » »][vc_column]Preise[vc_column_text css= ».vc_custom_1613378559381{margin-bottom: 40px !important;} »] \n\nKategorie 1 – 87\,00€\nKategorie 3 – 101\,00€\n\n[/vc_column_text]Kaufen Sie Ihre Tickets - Eventim[/vc_column][/vc_row][vc_row][vc_column][vc_tta_tabs][vc_tta_section title= »Affiche » tab_id= »1605010488431-dfe7cfb4-06c6″]     [/vc_tta_section][/vc_tta_tabs][/vc_column][/vc_row] \n
URL:https://www.countryhall.be/fr/event/love-disco/
LOCATION:Country Hall\, Allée du Bol d'Air\, 19\, Angleur\, Liège\, 4031\, Belgique
CATEGORIES:Concert
ATTACH;FMTTYPE=image/jpeg:https://www.countryhall.be/wp-content/uploads/2021/10/love-disco.jpg
END:VEVENT
END:VCALENDAR