BEGIN:VCALENDAR
VERSION:2.0
PRODID:-//Country Hall - ECPv4.9.14//NONSGML v1.0//EN
CALSCALE:GREGORIAN
METHOD:PUBLISH
X-WR-CALNAME:Country Hall
X-ORIGINAL-URL:https://www.countryhall.be
X-WR-CALDESC:Évènements pour Country Hall
BEGIN:VTIMEZONE
TZID:Europe/Brussels
BEGIN:DAYLIGHT
TZOFFSETFROM:+0100
TZOFFSETTO:+0200
TZNAME:CEST
DTSTART:20240331T010000
END:DAYLIGHT
BEGIN:STANDARD
TZOFFSETFROM:+0200
TZOFFSETTO:+0100
TZNAME:CET
DTSTART:20241027T010000
END:STANDARD
END:VTIMEZONE
BEGIN:VEVENT
DTSTART;VALUE=DATE:20240316
DTEND;VALUE=DATE:20240317
DTSTAMP:20260425T182705
CREATED:20240126T095435Z
LAST-MODIFIED:20240126T095453Z
UID:2440-1710547200-1710633599@www.countryhall.be
SUMMARY:Génération Mona
DESCRIPTION:
URL:https://www.countryhall.be/fr/event/generation-mona/
LOCATION:Country Hall\, Allée du Bol d'Air\, 19\, Angleur\, Liège\, 4031\, Belgique
CATEGORIES:Concert
ATTACH;FMTTYPE=image/jpeg:https://www.countryhall.be/wp-content/uploads/2024/01/generation-mona.jpg
END:VEVENT
END:VCALENDAR