BEGIN:VCALENDAR
VERSION:2.0
PRODID:-//Country Hall - ECPv4.9.14//NONSGML v1.0//EN
CALSCALE:GREGORIAN
METHOD:PUBLISH
X-WR-CALNAME:Country Hall
X-ORIGINAL-URL:https://www.countryhall.be
X-WR-CALDESC:Évènements pour Country Hall
BEGIN:VTIMEZONE
TZID:Europe/Brussels
BEGIN:DAYLIGHT
TZOFFSETFROM:+0100
TZOFFSETTO:+0200
TZNAME:CEST
DTSTART:20230326T010000
END:DAYLIGHT
BEGIN:STANDARD
TZOFFSETFROM:+0200
TZOFFSETTO:+0100
TZNAME:CET
DTSTART:20231029T010000
END:STANDARD
END:VTIMEZONE
BEGIN:VEVENT
DTSTART;VALUE=DATE:20230204
DTEND;VALUE=DATE:20230205
DTSTAMP:20260425T131245
CREATED:20230203T080422Z
LAST-MODIFIED:20230203T131050Z
UID:2317-1675468800-1675555199@www.countryhall.be
SUMMARY:Deuxième gala international de karaté Pro
DESCRIPTION:[vc_row padding_top_multiplier= » »][vc_column][vc_column_text text_style= »subtitle »]Vente des billets uniquement sur place\, 10€\nOuverture des porte à 18h et premier combat à 19h.\n[/vc_column_text][/vc_column][/vc_row][vc_row disable_element= »yes »][vc_column][vc_tta_tabs][vc_tta_section title= »Dates » tab_id= »1530264074709-fbba3533-4de7″]     [/vc_tta_section][vc_tta_section title= »Affiche » tab_id= »1605010488431-dfe7cfb4-06c6″]     [/vc_tta_section][/vc_tta_tabs][/vc_column][/vc_row] \n
URL:https://www.countryhall.be/fr/event/deuxieme-gala-international-de-karate-pro/
LOCATION:Country Hall\, Allée du Bol d'Air\, 19\, Angleur\, Liège\, 4031\, Belgique
CATEGORIES:Convention
ATTACH;FMTTYPE=image/jpeg:https://www.countryhall.be/wp-content/uploads/2023/02/329028823_403029502046130_2740612807847914876_n.jpg
END:VEVENT
END:VCALENDAR