BEGIN:VCALENDAR
VERSION:2.0
PRODID:-//Country Hall - ECPv4.9.14//NONSGML v1.0//EN
CALSCALE:GREGORIAN
METHOD:PUBLISH
X-WR-CALNAME:Country Hall
X-ORIGINAL-URL:https://www.countryhall.be
X-WR-CALDESC:Events for Country Hall
BEGIN:VTIMEZONE
TZID:Europe/Brussels
BEGIN:DAYLIGHT
TZOFFSETFROM:+0100
TZOFFSETTO:+0200
TZNAME:CEST
DTSTART:20210328T010000
END:DAYLIGHT
BEGIN:STANDARD
TZOFFSETFROM:+0200
TZOFFSETTO:+0100
TZNAME:CET
DTSTART:20211031T010000
END:STANDARD
END:VTIMEZONE
BEGIN:VEVENT
DTSTART;TZID=Europe/Brussels:20210904T100000
DTEND;TZID=Europe/Brussels:20210905T200000
DTSTAMP:20260425T112905
CREATED:20200228T101028Z
LAST-MODIFIED:20200526T085737Z
UID:1582-1630749600-1630872000@www.countryhall.be
SUMMARY:TOX CIT' INK
DESCRIPTION:[vc_row padding_top_multiplier=””][vc_column][vc_column_text text_style=”subtitle”]04 – 05 September 2020[/vc_column_text][vc_column_text] \nLiège International Tattoo Convention\n\nBetween 150 and 200 tattoo artists\, many of them foreign tattoo artists.\nPiercing stand\nTattoo contest\nAnimations and concerts throughout the weekend\n\nThe 2022 and 2023 editions will also be held at the Country Hall in Liège at the same time.[/vc_column_text][/vc_column][/vc_row][vc_row padding_top_multiplier=””][vc_column]Information[vc_column_text]Saturday 04/09\n11h – 22h (Opening at 10am for pre-sales) \nSunday 05/09\n11h – 20h (Opening at 10am for pre-sales)[/vc_column_text]Facebook @toxcitink[/vc_column][/vc_row][vc_row padding_top_multiplier=””][vc_column]Rates[vc_column_text css=”.vc_custom_1582884578812{margin-bottom: 40px !important;}”] \n\n15€ / day\n25€ Pass Week-end\n\n[/vc_column_text][/vc_column][/vc_row][vc_row][vc_column][vc_tta_tabs][vc_tta_section title=”Poster” tab_id=”1530264074709-fbba3533-4de7″]     [/vc_tta_section][/vc_tta_tabs][/vc_column][/vc_row] \n
URL:https://www.countryhall.be/en/event/tox-cit-ink-2/
LOCATION:Country Hall\, Allée du Bol d'Air\, 19\, Angleur\, Liège\, 4031\, Belgique
CATEGORIES:Convention
ATTACH;FMTTYPE=image/jpeg:https://www.countryhall.be/wp-content/uploads/2020/02/toxcitink-2020-accroche.jpg
END:VEVENT
END:VCALENDAR