BEGIN:VCALENDAR
VERSION:2.0
PRODID:-//Country Hall - ECPv4.9.14//NONSGML v1.0//EN
CALSCALE:GREGORIAN
METHOD:PUBLISH
X-WR-CALNAME:Country Hall
X-ORIGINAL-URL:https://www.countryhall.be
X-WR-CALDESC:Events for Country Hall
BEGIN:VTIMEZONE
TZID:Europe/Brussels
BEGIN:DAYLIGHT
TZOFFSETFROM:+0100
TZOFFSETTO:+0200
TZNAME:CEST
DTSTART:20210328T010000
END:DAYLIGHT
BEGIN:STANDARD
TZOFFSETFROM:+0200
TZOFFSETTO:+0100
TZNAME:CET
DTSTART:20211031T010000
END:STANDARD
END:VTIMEZONE
BEGIN:VEVENT
DTSTART;TZID=Europe/Brussels:20211016T100000
DTEND;TZID=Europe/Brussels:20211017T180000
DTSTAMP:20260425T112848
CREATED:20210429T131634Z
LAST-MODIFIED:20210429T131634Z
UID:1814-1634378400-1634493600@www.countryhall.be
SUMMARY:Babydays
DESCRIPTION:[vc_row padding_top_multiplier=””][vc_column][vc_column_text text_style=”subtitle”]October 16 & 17\, 2021[/vc_column_text][vc_column_text] \nCome to discover to choose well\nDo you want to discover in one weekend and in one place all that is possible to know about the world of the baby? Do you want to receive advice from several specialists\, information and samples of the best brands for your baby? \nYes\, then Mustela\, HERO BABY\, Sanytol\, Best of you\, Les mutualités chrétiennes\, Camille\, Yongo\, Ptitchou… invite you to come and discover the largest educational and informative exhibition on the world of babies and mothers-to-be. \nThe BABY fair is the only fair in Belgium that offers you : \n\nThe Baby Guide with all its useful information and good addresses.\nGifts\, coupons\, promotional products and free samples from exhibitors.\nAnswers to all your questions.\nCome and make an echo in 3 and 4 D . Girl or boy?\n\nAs you can see\, the coupon that we send you on the front of this page provides you with a discount on the price of admission to the show. We are waiting for you and your friends. Don’t hesitate to tell them! \nBuy your tickets online at www.babydays.be or at the entrance of the show.[/vc_column_text][/vc_column][/vc_row][vc_row padding_top_multiplier=””][vc_column]Informationbabydays.beinfo@babydays.be[/vc_column][/vc_row][vc_row padding_top_multiplier=””][vc_column]Rates[vc_column_text css=”.vc_custom_1619701553165{margin-bottom: 40px !important;}”]8€[/vc_column_text]Buy your tickets - Babydays.be[/vc_column][/vc_row][vc_row][vc_column][vc_tta_tabs][vc_tta_section title=”Poster” tab_id=”1587109002969-e5b61917-7e97″]     [/vc_tta_section][/vc_tta_tabs][/vc_column][/vc_row] \n
URL:https://www.countryhall.be/en/event/babydays-2/
LOCATION:Country Hall\, Allée du Bol d'Air\, 19\, Angleur\, Liège\, 4031\, Belgique
CATEGORIES:Convention
ATTACH;FMTTYPE=image/jpeg:https://www.countryhall.be/wp-content/uploads/2021/04/accroche-babydays.jpg
END:VEVENT
END:VCALENDAR