BEGIN:VCALENDAR
VERSION:2.0
PRODID:-//Country Hall - ECPv4.9.14//NONSGML v1.0//EN
CALSCALE:GREGORIAN
METHOD:PUBLISH
X-WR-CALNAME:Country Hall
X-ORIGINAL-URL:https://www.countryhall.be
X-WR-CALDESC:Veranstaltungen im Country Hall
BEGIN:VTIMEZONE
TZID:Europe/Brussels
BEGIN:DAYLIGHT
TZOFFSETFROM:+0100
TZOFFSETTO:+0200
TZNAME:CEST
DTSTART:20210328T010000
END:DAYLIGHT
BEGIN:STANDARD
TZOFFSETFROM:+0200
TZOFFSETTO:+0100
TZNAME:CET
DTSTART:20211031T010000
END:STANDARD
END:VTIMEZONE
BEGIN:VEVENT
DTSTART;TZID=Europe/Brussels:20211127T200000
DTEND;TZID=Europe/Brussels:20211127T233000
DTSTAMP:20260425T184204
CREATED:20211105T123451Z
LAST-MODIFIED:20211124T093413Z
UID:2088-1638043200-1638055800@www.countryhall.be
SUMMARY:We Love The 2000's - verschoben
DESCRIPTION:[vc_row padding_top_multiplier=““][vc_column][vc_column_text] \nDie Party des Jahres (verschoben)\nAufgrund von Maßnahmen im Zusammenhang mit der Gesundheitskrise wird die Veranstaltung auf ein späteres Datum verschoben\, das so bald wie möglich bekannt gegeben wird \nWenn auch Sie Ihre Teenagerzeit für eine Nacht wieder erleben wollen\, merken Sie sich den 27. November vor\, denn es wird ein Riesenspaß! 🔥 \nNun\, wenn Sie sich mehr für die Stars 80 Tour interessieren\, könnten Sie enttäuscht sein… \nAuf dem Programm\, nur Sounds der 2000er! \nRihanna\, Britney\, Star Ac‘\, Beyonce UND Destiny’s Childs\, Lorie\, Willy Denzey\, Black Eyed Peas\, M. Pokora\, Billy Crawford\,… Kurzum\, alles\, was du als Kind geliebt hast![/vc_column_text][/vc_column][/vc_row][vc_row disable_element=“yes“ padding_top_multiplier=““][vc_column]InformationBuy your tickets - Fnac[/vc_column][/vc_row][vc_row padding_top_multiplier=““][vc_column]Tarifs[vc_column_text css=“.vc_custom_1636114890342{margin-bottom: 40px !important;}“] \n\nTicket –  20\,00€\n\n[/vc_column_text]Buy your tickets - Fnac[/vc_column][/vc_row][vc_row disable_element=“yes“][vc_column][vc_tta_tabs][vc_tta_section title=“Dates“ tab_id=“1530264074709-fbba3533-4de7″]     [/vc_tta_section][vc_tta_section title=“Affiche“ tab_id=“1605010488431-dfe7cfb4-06c6″]     [/vc_tta_section][/vc_tta_tabs][/vc_column][/vc_row] \n
URL:https://www.countryhall.be/de/event/we-love-the-2000s-4/
LOCATION:Country Hall\, Allée du Bol d'Air\, 19\, Angleur\, Liège\, 4031\, Belgique
CATEGORIES:Konzert
ATTACH;FMTTYPE=image/jpeg:https://www.countryhall.be/wp-content/uploads/2021/11/241878304_1435810763472733_2773247806204135513_n.jpg
END:VEVENT
END:VCALENDAR