BEGIN:VCALENDAR
VERSION:2.0
PRODID:-//Country Hall - ECPv4.9.14//NONSGML v1.0//EN
CALSCALE:GREGORIAN
METHOD:PUBLISH
X-WR-CALNAME:Country Hall
X-ORIGINAL-URL:https://www.countryhall.be
X-WR-CALDESC:Veranstaltungen im Country Hall
BEGIN:VTIMEZONE
TZID:Europe/Brussels
BEGIN:DAYLIGHT
TZOFFSETFROM:+0100
TZOFFSETTO:+0200
TZNAME:CEST
DTSTART:20240331T010000
END:DAYLIGHT
BEGIN:STANDARD
TZOFFSETFROM:+0200
TZOFFSETTO:+0100
TZNAME:CET
DTSTART:20241027T010000
END:STANDARD
END:VTIMEZONE
BEGIN:VEVENT
DTSTART;VALUE=DATE:20241122
DTEND;VALUE=DATE:20250101
DTSTAMP:20260425T122758
CREATED:20241025T224921Z
LAST-MODIFIED:20241025T225118Z
UID:2573-1732233600-1735689599@www.countryhall.be
SUMMARY:Vintage Club
DESCRIPTION:[vc_row][vc_column]				  VINTAGE CLUB - 22.11.2024 -> 31.12.2024           [/vc_column][/vc_row][vc_row][vc_column][vc_column_text]„VINTAGE CLUB“ by Oli Soquette \nL’aventure débutera le vendredi 22 novembre \, des évents pour chaque date avec toutes les infos seront très bientôt sur cette page  et sur notre site web\nwww.vintage-club.be\nOn se réjouit de danser et faire la fête avec vous\nBon vous venez quand ?\nMerci de vos partages ! #vintageclubliege #lavieladanse\n[/vc_column_text][/vc_column][/vc_row][vc_row][vc_column][/vc_column][/vc_row] \n
URL:https://www.countryhall.be/de/event/vintage-club-4/
LOCATION:Country Hall\, Allée du Bol d'Air\, 19\, Angleur\, Liège\, 4031\, Belgique
ATTACH;FMTTYPE=image/jpeg:https://www.countryhall.be/wp-content/uploads/2024/10/464380888_122107552676573535_3450892755699728809_n.jpg
END:VEVENT
END:VCALENDAR