BEGIN:VCALENDAR
VERSION:2.0
PRODID:-//Country Hall - ECPv4.9.14//NONSGML v1.0//EN
CALSCALE:GREGORIAN
METHOD:PUBLISH
X-WR-CALNAME:Country Hall
X-ORIGINAL-URL:https://www.countryhall.be
X-WR-CALDESC:Veranstaltungen im Country Hall
BEGIN:VTIMEZONE
TZID:Europe/Brussels
BEGIN:DAYLIGHT
TZOFFSETFROM:+0100
TZOFFSETTO:+0200
TZNAME:CEST
DTSTART:20230326T010000
END:DAYLIGHT
BEGIN:STANDARD
TZOFFSETFROM:+0200
TZOFFSETTO:+0100
TZNAME:CET
DTSTART:20231029T010000
END:STANDARD
END:VTIMEZONE
BEGIN:VEVENT
DTSTART;TZID=Europe/Brussels:20230622T130000
DTEND;TZID=Europe/Brussels:20230622T180000
DTSTAMP:20260425T130951
CREATED:20230609T122152Z
LAST-MODIFIED:20230609T123420Z
UID:2366-1687438800-1687456800@www.countryhall.be
SUMMARY:Talentum Lüttich
DESCRIPTION:[vc_row padding_top_multiplier=““][vc_column][vc_column_text text_style=“subtitle“]22 Juni 2023[/vc_column_text][vc_column_text]Kommen Sie zum Talentum Lüttich und lernen Sie an einem Tag mehr als 30 Unternehmen kennen! Es gibt mehr als 500 Jobs und Ausbildungsmöglichkeiten. Diskutieren Sie mit den anwesenden Personalverantwortlichen und sichern Sie sich Ihren zukünftigen Job! 🤩[/vc_column_text][/vc_column][/vc_row][vc_row padding_top_multiplier=““][vc_column]InformationenReservierung[/vc_column][/vc_row][vc_row disable_element=“yes“][vc_column][vc_tta_tabs][vc_tta_section title=“Dates“ tab_id=“1530264074709-fbba3533-4de7″]     [/vc_tta_section][vc_tta_section title=“Affiche“ tab_id=“1605010488431-dfe7cfb4-06c6″]     [/vc_tta_section][/vc_tta_tabs][/vc_column][/vc_row] \n
URL:https://www.countryhall.be/de/event/talentum-luettich/
LOCATION:Country Hall\, Allée du Bol d'Air\, 19\, Angleur\, Liège\, 4031\, Belgique
CATEGORIES:Konvention
ATTACH;FMTTYPE=image/png:https://www.countryhall.be/wp-content/uploads/2023/06/Lancement-com-générale-8.png
END:VEVENT
END:VCALENDAR